BEGIN:VCALENDAR
VERSION:2.0
PRODID:-//Participate Australia - ECPv6.15.20//NONSGML v1.0//EN
CALSCALE:GREGORIAN
METHOD:PUBLISH
X-WR-CALNAME:Participate Australia
X-ORIGINAL-URL:https://participateaustralia.com.au
X-WR-CALDESC:Events for Participate Australia
REFRESH-INTERVAL;VALUE=DURATION:PT1H
X-Robots-Tag:noindex
X-PUBLISHED-TTL:PT1H
BEGIN:VTIMEZONE
TZID:Australia/Sydney
BEGIN:STANDARD
TZOFFSETFROM:+1100
TZOFFSETTO:+1000
TZNAME:AEST
DTSTART:20240406T160000
END:STANDARD
BEGIN:DAYLIGHT
TZOFFSETFROM:+1000
TZOFFSETTO:+1100
TZNAME:AEDT
DTSTART:20241005T160000
END:DAYLIGHT
BEGIN:STANDARD
TZOFFSETFROM:+1100
TZOFFSETTO:+1000
TZNAME:AEST
DTSTART:20250405T160000
END:STANDARD
BEGIN:DAYLIGHT
TZOFFSETFROM:+1000
TZOFFSETTO:+1100
TZNAME:AEDT
DTSTART:20251004T160000
END:DAYLIGHT
BEGIN:STANDARD
TZOFFSETFROM:+1100
TZOFFSETTO:+1000
TZNAME:AEST
DTSTART:20260404T160000
END:STANDARD
BEGIN:DAYLIGHT
TZOFFSETFROM:+1000
TZOFFSETTO:+1100
TZNAME:AEDT
DTSTART:20261003T160000
END:DAYLIGHT
BEGIN:STANDARD
TZOFFSETFROM:+1100
TZOFFSETTO:+1000
TZNAME:AEST
DTSTART:20270403T160000
END:STANDARD
BEGIN:DAYLIGHT
TZOFFSETFROM:+1000
TZOFFSETTO:+1100
TZNAME:AEDT
DTSTART:20271002T160000
END:DAYLIGHT
END:VTIMEZONE
BEGIN:VEVENT
DTSTART;VALUE=DATE:20250701
DTEND;VALUE=DATE:20260627
DTSTAMP:20260425T013310
CREATED:20260319T015533Z
LAST-MODIFIED:20260409T060240Z
UID:14839-1751328000-1782518399@participateaustralia.com.au
SUMMARY:Day Options Program
DESCRIPTION:Day Options program – to 26 June 2026 \nCheck out what’s on in the Day Options program\, running Monday to Friday (excepting public holidays) by clicking here to view the full program \nFor more information and to register\, contact Julia Golafshan\, Activities Facilitator on Tel: 02 9621 6633 | 0411 157 530 or email: julia.golafshan@participateaustralia.com.au \n 
URL:https://participateaustralia.com.au/event/summer-adult-weekend-program-3/
LOCATION:113 Edwin St North\, Croydon NSW 2132\, 113
CATEGORIES:Day Options
ATTACH;FMTTYPE=image/png:https://participateaustralia.com.au/wp-content/uploads/2026/03/Croydon-Social-Club-event-s-2.png
ORGANIZER;CN="Participate Australia":MAILTO:bookings@participateaustralia.com.au
END:VEVENT
BEGIN:VEVENT
DTSTART;VALUE=DATE:20260306
DTEND;VALUE=DATE:20260601
DTSTAMP:20260425T013310
CREATED:20260319T013736Z
LAST-MODIFIED:20260409T060331Z
UID:14831-1772755200-1780271999@participateaustralia.com.au
SUMMARY:Croydon Social Club Autumn Program
DESCRIPTION:Croydon Social Club Autumn program is here and it’s time to join in all the fun!  The programs run Friday\, Saturday and Sunday\, except public holidays. The activities run during the day and evenings from 6 March to 31 May 2026. See all the details\, costs and how to register by clicking here for the full program. \nFor more information\, contact Julia Golafshan\, Activities Facilitator on Tel: 02 9621 6633 | 0411 157 530 or email: julia.golafshan@participateaustralia.com.au \n 
URL:https://participateaustralia.com.au/event/summer-adult-weekend-program-2/
LOCATION:113 Edwin St North\, Croydon NSW 2132\, 113
CATEGORIES:Social Club Program
ATTACH;FMTTYPE=image/jpeg:https://participateaustralia.com.au/wp-content/uploads/2024/08/CSC-Spring-2024-Program.pdf-image-038.jpg
ORGANIZER;CN="Participate Australia":MAILTO:bookings@participateaustralia.com.au
END:VEVENT
BEGIN:VEVENT
DTSTART;VALUE=DATE:20260313
DTEND;VALUE=DATE:20260608
DTSTAMP:20260425T013310
CREATED:20260319T015813Z
LAST-MODIFIED:20260409T060401Z
UID:14844-1773360000-1780876799@participateaustralia.com.au
SUMMARY:Croydon Social Club Autumn Program
DESCRIPTION:Croydon Social Club Autumn program is here and it’s time to join in all the fun!  The programs run Friday\, Saturday and Sunday\, except public holidays. The activities run during the day and evenings from 6 March to 31 May 2026. See all the details\, costs and how to register CLICK HERE. \nFor more information\, contact Julia Golafshan\, Activities Facilitator on Tel: 02 9621 6633 | 0411 157 530 or email: julia.golafshan@participateaustralia.com.au \n 
URL:https://participateaustralia.com.au/event/croydon-social-club-autumn-program/
LOCATION:113 Edwin St North\, Croydon NSW 2132\, 113
CATEGORIES:Social Club Program
ATTACH;FMTTYPE=image/jpeg:https://participateaustralia.com.au/wp-content/uploads/2024/08/CSC-Spring-2024-Program.pdf-image-038.jpg
ORGANIZER;CN="Participate Australia":MAILTO:bookings@participateaustralia.com.au
END:VEVENT
BEGIN:VEVENT
DTSTART;VALUE=DATE:20260425
DTEND;VALUE=DATE:20260426
DTSTAMP:20260425T013310
CREATED:20260316T011441Z
LAST-MODIFIED:20260316T011441Z
UID:14824-1777075200-1777161599@participateaustralia.com.au
SUMMARY:Girls Teen Group
DESCRIPTION:A monthly social group for teen girls to connect\, make friends and enjoy fun activities such as movies\, jewellery making and baking. Activities are chosen by the group. \nEnquiries:\nIzabela Biedron\n02 9621 6633 | 0455 192 374\nibiedron@participateaustralia.com.au \nNDIS‑approved service provider supporting people of all ages. \n 
URL:https://participateaustralia.com.au/event/girls-teen-group-2/
LOCATION:113 Edwin St North\, Croydon NSW 2132\, 113
CATEGORIES:Teen Event
ATTACH;FMTTYPE=image/png:https://participateaustralia.com.au/wp-content/uploads/2026/03/GTG-web-event.png
ORGANIZER;CN="Participate Australia":MAILTO:bookings@participateaustralia.com.au
END:VEVENT
BEGIN:VEVENT
DTSTART;VALUE=DATE:20260530
DTEND;VALUE=DATE:20260531
DTSTAMP:20260425T013310
CREATED:20260316T011512Z
LAST-MODIFIED:20260316T011512Z
UID:14826-1780099200-1780185599@participateaustralia.com.au
SUMMARY:Girls Teen Group
DESCRIPTION:A monthly social group for teen girls to connect\, make friends and enjoy fun activities such as movies\, jewellery making and baking. Activities are chosen by the group. \nEnquiries:\nIzabela Biedron\n02 9621 6633 | 0455 192 374\nibiedron@participateaustralia.com.au \nNDIS‑approved service provider supporting people of all ages. \n 
URL:https://participateaustralia.com.au/event/girls-teen-group-3/
LOCATION:113 Edwin St North\, Croydon NSW 2132\, 113
CATEGORIES:Teen Event
ATTACH;FMTTYPE=image/png:https://participateaustralia.com.au/wp-content/uploads/2026/03/GTG-web-event.png
ORGANIZER;CN="Participate Australia":MAILTO:bookings@participateaustralia.com.au
END:VEVENT
BEGIN:VEVENT
DTSTART;VALUE=DATE:20260627
DTEND;VALUE=DATE:20260628
DTSTAMP:20260425T013310
CREATED:20260316T011533Z
LAST-MODIFIED:20260316T011533Z
UID:14828-1782518400-1782604799@participateaustralia.com.au
SUMMARY:Girls Teen Group
DESCRIPTION:A monthly social group for teen girls to connect\, make friends and enjoy fun activities such as movies\, jewellery making and baking. Activities are chosen by the group. \nEnquiries:\nIzabela Biedron\n02 9621 6633 | 0455 192 374\nibiedron@participateaustralia.com.au \nNDIS‑approved service provider supporting people of all ages. \n 
URL:https://participateaustralia.com.au/event/girls-teen-group-4/
LOCATION:113 Edwin St North\, Croydon NSW 2132\, 113
CATEGORIES:Teen Event
ATTACH;FMTTYPE=image/png:https://participateaustralia.com.au/wp-content/uploads/2026/03/GTG-web-event.png
ORGANIZER;CN="Participate Australia":MAILTO:bookings@participateaustralia.com.au
END:VEVENT
END:VCALENDAR